BEGIN:VCALENDAR
VERSION:2.0
PRODID:-//Dien&#039;s Martial Arts - ECPv6.15.12.2//NONSGML v1.0//EN
CALSCALE:GREGORIAN
METHOD:PUBLISH
X-WR-CALNAME:Dien&#039;s Martial Arts
X-ORIGINAL-URL:https://www.diensmartialarts.com
X-WR-CALDESC:Events for Dien&#039;s Martial Arts
REFRESH-INTERVAL;VALUE=DURATION:PT1H
X-Robots-Tag:noindex
X-PUBLISHED-TTL:PT1H
BEGIN:VTIMEZONE
TZID:America/Chicago
BEGIN:DAYLIGHT
TZOFFSETFROM:-0600
TZOFFSETTO:-0500
TZNAME:CDT
DTSTART:20190310T080000
END:DAYLIGHT
BEGIN:STANDARD
TZOFFSETFROM:-0500
TZOFFSETTO:-0600
TZNAME:CST
DTSTART:20191103T070000
END:STANDARD
BEGIN:DAYLIGHT
TZOFFSETFROM:-0600
TZOFFSETTO:-0500
TZNAME:CDT
DTSTART:20200308T080000
END:DAYLIGHT
BEGIN:STANDARD
TZOFFSETFROM:-0500
TZOFFSETTO:-0600
TZNAME:CST
DTSTART:20201101T070000
END:STANDARD
BEGIN:DAYLIGHT
TZOFFSETFROM:-0600
TZOFFSETTO:-0500
TZNAME:CDT
DTSTART:20210314T080000
END:DAYLIGHT
BEGIN:STANDARD
TZOFFSETFROM:-0500
TZOFFSETTO:-0600
TZNAME:CST
DTSTART:20211107T070000
END:STANDARD
BEGIN:DAYLIGHT
TZOFFSETFROM:-0600
TZOFFSETTO:-0500
TZNAME:CDT
DTSTART:20220313T080000
END:DAYLIGHT
BEGIN:STANDARD
TZOFFSETFROM:-0500
TZOFFSETTO:-0600
TZNAME:CST
DTSTART:20221106T070000
END:STANDARD
BEGIN:DAYLIGHT
TZOFFSETFROM:-0600
TZOFFSETTO:-0500
TZNAME:CDT
DTSTART:20230312T080000
END:DAYLIGHT
BEGIN:STANDARD
TZOFFSETFROM:-0500
TZOFFSETTO:-0600
TZNAME:CST
DTSTART:20231105T070000
END:STANDARD
BEGIN:DAYLIGHT
TZOFFSETFROM:-0600
TZOFFSETTO:-0500
TZNAME:CDT
DTSTART:20240310T080000
END:DAYLIGHT
BEGIN:STANDARD
TZOFFSETFROM:-0500
TZOFFSETTO:-0600
TZNAME:CST
DTSTART:20241103T070000
END:STANDARD
BEGIN:DAYLIGHT
TZOFFSETFROM:-0600
TZOFFSETTO:-0500
TZNAME:CDT
DTSTART:20250309T080000
END:DAYLIGHT
BEGIN:STANDARD
TZOFFSETFROM:-0500
TZOFFSETTO:-0600
TZNAME:CST
DTSTART:20251102T070000
END:STANDARD
END:VTIMEZONE
BEGIN:VEVENT
DTSTART;TZID=America/Chicago:20240302T080000
DTEND;TZID=America/Chicago:20240302T180000
DTSTAMP:20260423T133355
CREATED:20240204T172248Z
LAST-MODIFIED:20240204T173159Z
UID:987-1709366400-1709402400@www.diensmartialarts.com
SUMMARY:Winter Dragon Taekwondo Tournament
DESCRIPTION:Click Here for Tournament registration flyer \nLadue High School\n1201 South Warson Rd\, St. Louis\, MO 63124\nDate:\nSaturday March 2nd 2024\nStarts 10am\n$40 for one event\n$60 for two events\nCoaches & Spectators get in for free \nAll black belts divisions get Statues!\nQuestions-Hardin.jessica@rocketmail.com \nRegistration Deadline\nFebruary 17th\n2024\nPre Registration Required\nNO REGISTRATION AT THE DOOR
URL:https://www.diensmartialarts.com/event/winter-dragon-taekwondo-tournament/
LOCATION:Ladue Highschool\, 1201 South Warson Rd\, St. Louis\, MO\, 63124\, United States
CATEGORIES:Tournament
ORGANIZER;CN="Twin Dragons Taekwondo LLC.":MAILTO:Hardin.jessica@rocketmail.com
END:VEVENT
BEGIN:VEVENT
DTSTART;TZID=America/Chicago:20201018T090000
DTEND;TZID=America/Chicago:20201018T130000
DTSTAMP:20260423T133355
CREATED:20200127T014007Z
LAST-MODIFIED:20200127T054526Z
UID:867-1603011600-1603026000@www.diensmartialarts.com
SUMMARY:2nd Black Belt Testing
DESCRIPTION:Sunday October 18\, 2020
URL:https://www.diensmartialarts.com/event/2nd-black-belt-testing/
LOCATION:Eureka Community Center\, 333 Bald Hill Road\, Eureka\, MO\, 63025\, United States
CATEGORIES:Black Belt Testing
ORGANIZER;CN="Dien Nguyen":MAILTO:dienx@yahoo.com
END:VEVENT
BEGIN:VEVENT
DTSTART;TZID=America/Chicago:20200614T090000
DTEND;TZID=America/Chicago:20200614T130000
DTSTAMP:20260423T133355
CREATED:20200127T013904Z
LAST-MODIFIED:20200127T054447Z
UID:865-1592125200-1592139600@www.diensmartialarts.com
SUMMARY:1st Black Belt Testing
DESCRIPTION:Sunday June 14\, 2020
URL:https://www.diensmartialarts.com/event/1st-black-belt-testing/
LOCATION:Eureka Community Center\, 333 Bald Hill Road\, Eureka\, MO\, 63025\, United States
CATEGORIES:Black Belt Testing
ORGANIZER;CN="Dien Nguyen":MAILTO:dienx@yahoo.com
END:VEVENT
BEGIN:VEVENT
DTSTART;TZID=America/Chicago:20200426T090000
DTEND;TZID=America/Chicago:20200426T170000
DTSTAMP:20260423T133355
CREATED:20200127T013623Z
LAST-MODIFIED:20200130T205841Z
UID:861-1587891600-1587920400@www.diensmartialarts.com
SUMMARY:Grandmaster Yoon's Annual Invitational Tournament
DESCRIPTION:click on the PDF link below for more info: \n2020_Tournament \nRegister online at the Timbers: \nhttps://eureka.recdesk.com/Community/Program/Detail?programId=868
URL:https://www.diensmartialarts.com/event/grandmaster-yoons-annual-invitational-tournament/
LOCATION:Eureka Community Center\, 333 Bald Hill Road\, Eureka\, MO\, 63025\, United States
CATEGORIES:Tournament
ORGANIZER;CN="Dien Nguyen":MAILTO:dienx@yahoo.com
END:VEVENT
END:VCALENDAR